BEGIN:VCALENDAR
PRODID:http://wibix.de/infusions/pro_download_panel/download.php?did=27
VERSION:2.0
METHOD:PUBLISH
BEGIN:VEVENT
DTSTART:20211120T230000Z
UID:40@https://ot23.pzk.org.pl/
DTSTAMP:20211015T102705Z
DESCRIPTION:Termin: 21 listopada 2021 (niedziela) o godzinie 10.00
SUMMARY:Walne Zebranie Sprawozdawczo-Wyborcze ON PZK w Pile
LOCATION:Ujście, ul. Czarnkowska 32 (Pizzeria Vesuvio)
CLASS:PUBLIC
END:VEVENT
END:VCALENDAR
